BEGIN:VCALENDAR
VERSION:2.0
PRODID:-//Welcome To Olde Trade Tools - ECPv6.15.20//NONSGML v1.0//EN
CALSCALE:GREGORIAN
METHOD:PUBLISH
X-ORIGINAL-URL:https://oldetradetools.com
X-WR-CALDESC:Events for Welcome To Olde Trade Tools
REFRESH-INTERVAL;VALUE=DURATION:PT1H
X-Robots-Tag:noindex
X-PUBLISHED-TTL:PT1H
BEGIN:VTIMEZONE
TZID:America/Toronto
BEGIN:DAYLIGHT
TZOFFSETFROM:-0500
TZOFFSETTO:-0400
TZNAME:EDT
DTSTART:20200308T070000
END:DAYLIGHT
BEGIN:STANDARD
TZOFFSETFROM:-0400
TZOFFSETTO:-0500
TZNAME:EST
DTSTART:20201101T060000
END:STANDARD
BEGIN:DAYLIGHT
TZOFFSETFROM:-0500
TZOFFSETTO:-0400
TZNAME:EDT
DTSTART:20210314T070000
END:DAYLIGHT
BEGIN:STANDARD
TZOFFSETFROM:-0400
TZOFFSETTO:-0500
TZNAME:EST
DTSTART:20211107T060000
END:STANDARD
BEGIN:DAYLIGHT
TZOFFSETFROM:-0500
TZOFFSETTO:-0400
TZNAME:EDT
DTSTART:20220313T070000
END:DAYLIGHT
BEGIN:STANDARD
TZOFFSETFROM:-0400
TZOFFSETTO:-0500
TZNAME:EST
DTSTART:20221106T060000
END:STANDARD
BEGIN:DAYLIGHT
TZOFFSETFROM:-0500
TZOFFSETTO:-0400
TZNAME:EDT
DTSTART:20230312T070000
END:DAYLIGHT
BEGIN:STANDARD
TZOFFSETFROM:-0400
TZOFFSETTO:-0500
TZNAME:EST
DTSTART:20231105T060000
END:STANDARD
END:VTIMEZONE
BEGIN:VEVENT
DTSTART;TZID=America/Toronto:20220515T100000
DTEND;TZID=America/Toronto:20220515T150000
DTSTAMP:20260420T060110
CREATED:20210813T120836Z
LAST-MODIFIED:20220221T120125Z
UID:240533-1652608800-1652626800@oldetradetools.com
SUMMARY:Tools of the Trades Spring Show - Pickering
DESCRIPTION:Featuring antique tools of the various trades\, collectible and usable farm\, industry\, kitchen and household collectibles\, medical and scientific instruments\, associated books and catalogues. \nWith 30+ Antique Hand Tool Dealers. \n \nAdmission $10.00\nChildren under 12 FREE\nFREE PARKING
URL:https://oldetradetools.com/event/tools-of-the-trades-spring-show-pickering/
LOCATION:Chestnut Hill Developments Recreation Complex\, 1867 Valley Farm Rd\, Pickering\, Ontario\, L1V 6K7\, Canada
CATEGORIES:Tools of the Trades
ATTACH;FMTTYPE=image/jpeg:https://oldetradetools.com/wp-content/uploads/2021/08/TOT-Spring-Show.jpg
END:VEVENT
BEGIN:VEVENT
DTSTART;TZID=America/Toronto:20211003T100000
DTEND;TZID=America/Toronto:20211003T150000
DTSTAMP:20260420T060110
CREATED:20210812T214310Z
LAST-MODIFIED:20210812T215326Z
UID:240364-1633255200-1633273200@oldetradetools.com
SUMMARY:Tools of the Trades Fall Show - Pickering - Cancelled
DESCRIPTION:This event is unfortunately cancelled. We hope to see you in 2022! \nFeaturing antique tools of the various trades\, collectible and usable farm\, industry\, kitchen and household collectibles\, medical and scientific instruments\, associated books and catalogues. \nWith 30+ Antique Hand Tool Dealers. \nAdmission $10.00\nChildren under 12 FREE\nFREE PARKING
URL:https://oldetradetools.com/event/tools-of-the-trades-fall-show-pickering-cancelled/
LOCATION:Chestnut Hill Developments Recreation Complex\, 1867 Valley Farm Rd\, Pickering\, Ontario\, L1V 6K7\, Canada
CATEGORIES:Tools of the Trades
ATTACH;FMTTYPE=image/jpeg:https://oldetradetools.com/wp-content/uploads/2021/08/TOT-Fall-Show-Cancelled.jpg
END:VEVENT
END:VCALENDAR