BEGIN:VCALENDAR
VERSION:2.0
PRODID:-//Welcome To Olde Trade Tools - ECPv6.15.20//NONSGML v1.0//EN
CALSCALE:GREGORIAN
METHOD:PUBLISH
X-WR-CALNAME:Welcome To Olde Trade Tools
X-ORIGINAL-URL:https://oldetradetools.com
X-WR-CALDESC:Events for Welcome To Olde Trade Tools
REFRESH-INTERVAL;VALUE=DURATION:PT1H
X-Robots-Tag:noindex
X-PUBLISHED-TTL:PT1H
BEGIN:VTIMEZONE
TZID:America/Toronto
BEGIN:DAYLIGHT
TZOFFSETFROM:-0500
TZOFFSETTO:-0400
TZNAME:EDT
DTSTART:20200308T070000
END:DAYLIGHT
BEGIN:STANDARD
TZOFFSETFROM:-0400
TZOFFSETTO:-0500
TZNAME:EST
DTSTART:20201101T060000
END:STANDARD
BEGIN:DAYLIGHT
TZOFFSETFROM:-0500
TZOFFSETTO:-0400
TZNAME:EDT
DTSTART:20210314T070000
END:DAYLIGHT
BEGIN:STANDARD
TZOFFSETFROM:-0400
TZOFFSETTO:-0500
TZNAME:EST
DTSTART:20211107T060000
END:STANDARD
BEGIN:DAYLIGHT
TZOFFSETFROM:-0500
TZOFFSETTO:-0400
TZNAME:EDT
DTSTART:20220313T070000
END:DAYLIGHT
BEGIN:STANDARD
TZOFFSETFROM:-0400
TZOFFSETTO:-0500
TZNAME:EST
DTSTART:20221106T060000
END:STANDARD
BEGIN:DAYLIGHT
TZOFFSETFROM:-0500
TZOFFSETTO:-0400
TZNAME:EDT
DTSTART:20230312T070000
END:DAYLIGHT
BEGIN:STANDARD
TZOFFSETFROM:-0400
TZOFFSETTO:-0500
TZNAME:EST
DTSTART:20231105T060000
END:STANDARD
END:VTIMEZONE
BEGIN:VEVENT
DTSTART;VALUE=DATE:20220701
DTEND;VALUE=DATE:20220702
DTSTAMP:20260420T073214
CREATED:20210813T162646Z
LAST-MODIFIED:20210813T162646Z
UID:240562-1656633600-1656719999@oldetradetools.com
SUMMARY:Canada Day
DESCRIPTION:
URL:https://oldetradetools.com/event/canada-day/
CATEGORIES:Holidays
ATTACH;FMTTYPE=image/jpeg:https://oldetradetools.com/wp-content/uploads/2021/08/Canada-Day.jpg
END:VEVENT
BEGIN:VEVENT
DTSTART;VALUE=DATE:20220619
DTEND;VALUE=DATE:20220620
DTSTAMP:20260420T073214
CREATED:20210813T151948Z
LAST-MODIFIED:20210813T151948Z
UID:240556-1655596800-1655683199@oldetradetools.com
SUMMARY:Father's Day
DESCRIPTION:
URL:https://oldetradetools.com/event/fathers-day/
CATEGORIES:Holidays
ATTACH;FMTTYPE=image/jpeg:https://oldetradetools.com/wp-content/uploads/2021/08/Happy-Fathers-Day.jpg
END:VEVENT
BEGIN:VEVENT
DTSTART;VALUE=DATE:20220523
DTEND;VALUE=DATE:20220524
DTSTAMP:20260420T073214
CREATED:20210813T162526Z
LAST-MODIFIED:20210813T162526Z
UID:240559-1653264000-1653350399@oldetradetools.com
SUMMARY:Victoria Day
DESCRIPTION:
URL:https://oldetradetools.com/event/victoria-day/
CATEGORIES:Holidays
ATTACH;FMTTYPE=image/jpeg:https://oldetradetools.com/wp-content/uploads/2021/08/Happy-Victoria-Day.jpg
END:VEVENT
BEGIN:VEVENT
DTSTART;VALUE=DATE:20220508
DTEND;VALUE=DATE:20220509
DTSTAMP:20260420T073214
CREATED:20210813T151753Z
LAST-MODIFIED:20210813T151753Z
UID:240553-1651968000-1652054399@oldetradetools.com
SUMMARY:Mother's Day
DESCRIPTION:
URL:https://oldetradetools.com/event/mothers-day/
CATEGORIES:Holidays
ATTACH;FMTTYPE=image/jpeg:https://oldetradetools.com/wp-content/uploads/2021/08/Happy-Mothers-Day.jpg
END:VEVENT
BEGIN:VEVENT
DTSTART;VALUE=DATE:20220417
DTEND;VALUE=DATE:20220418
DTSTAMP:20260420T073214
CREATED:20210813T141047Z
LAST-MODIFIED:20210813T151604Z
UID:240550-1650153600-1650239999@oldetradetools.com
SUMMARY:Easter Sunday
DESCRIPTION:
URL:https://oldetradetools.com/event/easter-sunday/
CATEGORIES:Holidays
ATTACH;FMTTYPE=image/jpeg:https://oldetradetools.com/wp-content/uploads/2021/08/Happy-Easter.jpg
END:VEVENT
BEGIN:VEVENT
DTSTART;VALUE=DATE:20220415
DTEND;VALUE=DATE:20220416
DTSTAMP:20260420T073214
CREATED:20210813T140909Z
LAST-MODIFIED:20210813T140909Z
UID:240547-1649980800-1650067199@oldetradetools.com
SUMMARY:Good Friday
DESCRIPTION:
URL:https://oldetradetools.com/event/good-friday/
CATEGORIES:Holidays
ATTACH;FMTTYPE=image/jpeg:https://oldetradetools.com/wp-content/uploads/2021/08/Good-Friday.jpg
END:VEVENT
BEGIN:VEVENT
DTSTART;VALUE=DATE:20220221
DTEND;VALUE=DATE:20220222
DTSTAMP:20260420T073214
CREATED:20210813T130852Z
LAST-MODIFIED:20210813T130852Z
UID:240537-1645401600-1645487999@oldetradetools.com
SUMMARY:Family Day
DESCRIPTION:
URL:https://oldetradetools.com/event/family-day/
CATEGORIES:Holidays
ATTACH;FMTTYPE=image/jpeg:https://oldetradetools.com/wp-content/uploads/2021/08/Family-Day.jpg
END:VEVENT
BEGIN:VEVENT
DTSTART;VALUE=DATE:20211231
DTEND;VALUE=DATE:20220101
DTSTAMP:20260420T073214
CREATED:20210813T010817Z
LAST-MODIFIED:20210813T010817Z
UID:240432-1640908800-1640995199@oldetradetools.com
SUMMARY:New Years Day
DESCRIPTION:OTT wishes everybody a healthy and prosperous 2022!!
URL:https://oldetradetools.com/event/new-years-day/
CATEGORIES:Holidays
ATTACH;FMTTYPE=image/jpeg:https://oldetradetools.com/wp-content/uploads/2021/08/Happy-New-Year.jpg
END:VEVENT
BEGIN:VEVENT
DTSTART;VALUE=DATE:20211231
DTEND;VALUE=DATE:20220101
DTSTAMP:20260420T073214
CREATED:20210813T010545Z
LAST-MODIFIED:20210813T010545Z
UID:240429-1640908800-1640995199@oldetradetools.com
SUMMARY:New Years Eve
DESCRIPTION:
URL:https://oldetradetools.com/event/new-years-eve/
CATEGORIES:Holidays
ATTACH;FMTTYPE=image/jpeg:https://oldetradetools.com/wp-content/uploads/2021/08/Happy-New-Year.jpg
END:VEVENT
BEGIN:VEVENT
DTSTART;VALUE=DATE:20211226
DTEND;VALUE=DATE:20211227
DTSTAMP:20260420T073214
CREATED:20210813T005411Z
LAST-MODIFIED:20210813T005411Z
UID:240427-1640476800-1640563199@oldetradetools.com
SUMMARY:Boxing Day
DESCRIPTION:
URL:https://oldetradetools.com/event/boxing-day/
CATEGORIES:Holidays
ATTACH;FMTTYPE=image/jpeg:https://oldetradetools.com/wp-content/uploads/2021/08/Merry-Christmas.jpg
END:VEVENT
BEGIN:VEVENT
DTSTART;VALUE=DATE:20211225
DTEND;VALUE=DATE:20211226
DTSTAMP:20260420T073214
CREATED:20210813T005010Z
LAST-MODIFIED:20210813T005010Z
UID:240425-1640390400-1640476799@oldetradetools.com
SUMMARY:Christmas Day
DESCRIPTION:
URL:https://oldetradetools.com/event/christmas-day/
CATEGORIES:Holidays
ATTACH;FMTTYPE=image/jpeg:https://oldetradetools.com/wp-content/uploads/2021/08/Merry-Christmas.jpg
END:VEVENT
BEGIN:VEVENT
DTSTART;VALUE=DATE:20211224
DTEND;VALUE=DATE:20211225
DTSTAMP:20260420T073214
CREATED:20210813T004856Z
LAST-MODIFIED:20210813T004856Z
UID:240422-1640304000-1640390399@oldetradetools.com
SUMMARY:Christmas Eve
DESCRIPTION:
URL:https://oldetradetools.com/event/christmas-eve/
CATEGORIES:Holidays
ATTACH;FMTTYPE=image/jpeg:https://oldetradetools.com/wp-content/uploads/2021/08/Merry-Christmas.jpg
END:VEVENT
BEGIN:VEVENT
DTSTART;VALUE=DATE:20211031
DTEND;VALUE=DATE:20211101
DTSTAMP:20260420T073214
CREATED:20210813T003342Z
LAST-MODIFIED:20210813T003342Z
UID:240419-1635638400-1635724799@oldetradetools.com
SUMMARY:Halloween
DESCRIPTION:Have a Happy and Spooky Halloween! \n– Olde Trade Tools (Doug Evans)
URL:https://oldetradetools.com/event/halloween/
CATEGORIES:Holidays
ATTACH;FMTTYPE=image/jpeg:https://oldetradetools.com/wp-content/uploads/2021/08/Happy-Halloween.jpg
END:VEVENT
BEGIN:VEVENT
DTSTART;VALUE=DATE:20211011
DTEND;VALUE=DATE:20211012
DTSTAMP:20260420T073214
CREATED:20210813T000545Z
LAST-MODIFIED:20210813T000545Z
UID:240415-1633910400-1633996799@oldetradetools.com
SUMMARY:Thanksgiving
DESCRIPTION:Happy Canadian Thanksgiving!! \n– Doug Evans
URL:https://oldetradetools.com/event/thanksgiving/
CATEGORIES:Holidays
ATTACH;FMTTYPE=image/jpeg:https://oldetradetools.com/wp-content/uploads/2021/08/Happy-Thanksgiving.jpg
END:VEVENT
BEGIN:VEVENT
DTSTART;VALUE=DATE:20210906
DTEND;VALUE=DATE:20210907
DTSTAMP:20260420T073214
CREATED:20210812T233046Z
LAST-MODIFIED:20210813T000634Z
UID:240403-1630886400-1630972799@oldetradetools.com
SUMMARY:Labour Day
DESCRIPTION:Happy Labour Day from Olde Trade Tools!! \n– Doug Evans
URL:https://oldetradetools.com/event/labour-day/
CATEGORIES:Holidays
ATTACH;FMTTYPE=image/jpeg:https://oldetradetools.com/wp-content/uploads/2021/08/Happy-Labour-Day.jpg
END:VEVENT
END:VCALENDAR